BEGIN:VCALENDAR
VERSION:2.0
PRODID:-//StatGenius - ECPv6.15.11//NONSGML v1.0//EN
CALSCALE:GREGORIAN
METHOD:PUBLISH
X-WR-CALNAME:StatGenius
X-ORIGINAL-URL:https://statgenius.io
X-WR-CALDESC:Events for StatGenius
REFRESH-INTERVAL;VALUE=DURATION:PT1H
X-Robots-Tag:noindex
X-PUBLISHED-TTL:PT1H
BEGIN:VTIMEZONE
TZID:America/New_York
BEGIN:DAYLIGHT
TZOFFSETFROM:-0500
TZOFFSETTO:-0400
TZNAME:EDT
DTSTART:20250309T070000
END:DAYLIGHT
BEGIN:STANDARD
TZOFFSETFROM:-0400
TZOFFSETTO:-0500
TZNAME:EST
DTSTART:20251102T060000
END:STANDARD
BEGIN:DAYLIGHT
TZOFFSETFROM:-0500
TZOFFSETTO:-0400
TZNAME:EDT
DTSTART:20260308T070000
END:DAYLIGHT
BEGIN:STANDARD
TZOFFSETFROM:-0400
TZOFFSETTO:-0500
TZNAME:EST
DTSTART:20261101T060000
END:STANDARD
BEGIN:DAYLIGHT
TZOFFSETFROM:-0500
TZOFFSETTO:-0400
TZNAME:EDT
DTSTART:20270314T070000
END:DAYLIGHT
BEGIN:STANDARD
TZOFFSETFROM:-0400
TZOFFSETTO:-0500
TZNAME:EST
DTSTART:20271107T060000
END:STANDARD
END:VTIMEZONE
BEGIN:VEVENT
DTSTART;TZID=America/New_York:20260420T110000
DTEND;TZID=America/New_York:20260420T120000
DTSTAMP:20260423T121945
CREATED:20260402T200850Z
LAST-MODIFIED:20260409T230909Z
UID:19170-1776682800-1776686400@statgenius.io
SUMMARY:Why Synthetic Respondents are "AI Hype" Nonsense
DESCRIPTION:AI “respondent panels” are being aggressively marketed as the future of research — but are they legitimate\, or just the latest form of hype? In this session\, we’ll pull back the curtain on how synthetic panels actually work from a technical perspective\, why their outputs can’t be trusted as real consumer data\, and how vendors are exploiting misconceptions about AI to sell questionable insights. We’ll also explore emerging technologies that use proven mathematical\, evidence-based approaches for generating insights from your mountains of existing data — without relying on black-box models or marketing buzzwords. If you’re a research leader\, data scientist\, or insights professional who values rigor over hype\, this is a session you won’t want to miss.
URL:https://statgenius.io/event/why-synthetic-respondents-are-ai-hype-nonsense/
END:VEVENT
END:VCALENDAR