BEGIN:VCALENDAR
VERSION:2.0
PRODID:-//StatGenius - ECPv6.15.11//NONSGML v1.0//EN
CALSCALE:GREGORIAN
METHOD:PUBLISH
X-WR-CALNAME:StatGenius
X-ORIGINAL-URL:https://statgenius.io
X-WR-CALDESC:Events for StatGenius
REFRESH-INTERVAL;VALUE=DURATION:PT1H
X-Robots-Tag:noindex
X-PUBLISHED-TTL:PT1H
BEGIN:VTIMEZONE
TZID:America/New_York
BEGIN:DAYLIGHT
TZOFFSETFROM:-0500
TZOFFSETTO:-0400
TZNAME:EDT
DTSTART:20250309T070000
END:DAYLIGHT
BEGIN:STANDARD
TZOFFSETFROM:-0400
TZOFFSETTO:-0500
TZNAME:EST
DTSTART:20251102T060000
END:STANDARD
BEGIN:DAYLIGHT
TZOFFSETFROM:-0500
TZOFFSETTO:-0400
TZNAME:EDT
DTSTART:20260308T070000
END:DAYLIGHT
BEGIN:STANDARD
TZOFFSETFROM:-0400
TZOFFSETTO:-0500
TZNAME:EST
DTSTART:20261101T060000
END:STANDARD
BEGIN:DAYLIGHT
TZOFFSETFROM:-0500
TZOFFSETTO:-0400
TZNAME:EDT
DTSTART:20270314T070000
END:DAYLIGHT
BEGIN:STANDARD
TZOFFSETFROM:-0400
TZOFFSETTO:-0500
TZNAME:EST
DTSTART:20271107T060000
END:STANDARD
END:VTIMEZONE
BEGIN:VEVENT
DTSTART;TZID=America/New_York:20260415T130000
DTEND;TZID=America/New_York:20260415T140000
DTSTAMP:20260423T162142
CREATED:20260409T231223Z
LAST-MODIFIED:20260413T232105Z
UID:19182-1776258000-1776261600@statgenius.io
SUMMARY:Live Event: Former D-Wave Insider Steps Forward (NYSE: QBTS)
DESCRIPTION:Josh Speyer previously worked at D-Wave in 2025 in a strategically important role between technology and revenue. While there\, he was alarmed at a number of ways that the outside narrative differed from reality. \nThe Coherence Report is releasing a comprehensive due diligence report on D-Wave Quantum Inc.\, presenting an independent analysis of the company’s commercial traction\, technical positioning\, and valuation assumptions. \n“The gap between what this company tells investors and what is actually happening inside the business is not a matter of interpretation\,” said Speyer. “I watched it from the inside. Investors are making decisions based on a narrative that the company’s own leadership knows is not accurate.” \nCore findings include a customer base structured to overstate commercial adoption; annealing technology that has been exaggerated in its applicability in use for the enterprise and government markets; and a Quantum AI positioning that is not supported by the company’s internal resources or technical capabilities\, and is promoted to appease investor appetite despite D-Wave having essentially exited the AI market in July 2025. \nIn this live event\, Josh Speyer will detail his analysis of how D-Wave Quantum has misrepresented its commercial traction\, overstated the usefulness of its technology\, and obscured the true trajectory of its customer base. At the end of the discussion\, attendees will be presented with evidence how the company continually crafts narratives for Wall Street\, and how we believe those narratives will come crashing down in the next 60 days. \nCoherence Reports asserts that no confidential information or MNPI will be revealed\, and draws solely on public information\, earnings call records\, and his own expertise. \nDisclosure: Mr. Speyer and Coherence is short QBTS. This is independent research and opinion\, not investment advice.
URL:https://statgenius.io/event/live-event-former-d-wave-insider-steps-forward-nyse-qbts/
END:VEVENT
BEGIN:VEVENT
DTSTART;TZID=America/New_York:20260320T130000
DTEND;TZID=America/New_York:20260320T140000
DTSTAMP:20260423T162142
CREATED:20260216T185223Z
LAST-MODIFIED:20260320T092314Z
UID:17956-1774011600-1774015200@statgenius.io
SUMMARY:Automating Statistical Analysis w/ AI on an Enterprise Scale
DESCRIPTION:Everyone hypes Gen-AI\, but there are far more advanced technologies out there for research analysis. This session educates on the other AI techniques for quant research that you never hear about\, and how they can be used to automate statistical analysis across enterprise-scale datasets. In a recent engagement with a consumer services organization\, a task that once required a full research team was completed by a single analyst\, in an afternoon. By combining segment analysis\, relationship mapping\, and other advanced techniques\, the system generated a comprehensive set of insights and automated the processing (and final PowerPoint) – without touching Gen-AI junk. \nIf you’re ready to move beyond the Gen-AI noise and see what real AI-driven research automation looks like\, this session is for you. Register below to discover the tools that can turn days of analysis into hours.
URL:https://statgenius.io/event/automating-statistical-analysis-w-ai-on-an-enterprise-scale/
ATTACH;FMTTYPE=image/png:https://statgenius.io/wp-content/uploads/2026/02/2-1.png
END:VEVENT
BEGIN:VEVENT
DTSTART;TZID=America/New_York:20260318T130000
DTEND;TZID=America/New_York:20260318T140000
DTSTAMP:20260423T162142
CREATED:20260216T185242Z
LAST-MODIFIED:20260310T073050Z
UID:17958-1773838800-1773842400@statgenius.io
SUMMARY:Why Synthetic Respondents Are AI Nonsense
DESCRIPTION:AI “respondent panels” are being aggressively marketed as the future of research — but are they legitimate\, or just the latest form of hype? In this session\, we’ll pull back the curtain on how synthetic panels actually work from a technical perspective\, why their outputs can’t be trusted as real consumer data\, and how vendors are exploiting misconceptions about AI to sell questionable insights. We’ll also explore emerging technologies that use proven mathematical\, evidence-based approaches for generating insights from your mountains of existing data\, without relying on black-box models or marketing buzzwords. If you’re a research leader\, data scientist\, or insights professional who values rigor over hype\, this is a session you won’t want to miss. \nSpots are limited\, and we’re keeping this room intentional. If you’re serious\, this is your moment.Hit the registration link below and lock in your seat now.
URL:https://statgenius.io/event/synthetic-respondents-are-ai-nonsense/
ATTACH;FMTTYPE=image/png:https://statgenius.io/wp-content/uploads/2026/02/1-1.png
END:VEVENT
END:VCALENDAR